BEGIN:VCALENDAR
VERSION:2.0
PRODID:-//AFTM - ECPv6.15.20//NONSGML v1.0//EN
CALSCALE:GREGORIAN
METHOD:PUBLISH
X-ORIGINAL-URL:https://aftm.us
X-WR-CALDESC:Events for AFTM
REFRESH-INTERVAL;VALUE=DURATION:PT1H
X-Robots-Tag:noindex
X-PUBLISHED-TTL:PT1H
BEGIN:VTIMEZONE
TZID:America/Chicago
BEGIN:DAYLIGHT
TZOFFSETFROM:-0600
TZOFFSETTO:-0500
TZNAME:CDT
DTSTART:20250309T080000
END:DAYLIGHT
BEGIN:STANDARD
TZOFFSETFROM:-0500
TZOFFSETTO:-0600
TZNAME:CST
DTSTART:20251102T070000
END:STANDARD
BEGIN:DAYLIGHT
TZOFFSETFROM:-0600
TZOFFSETTO:-0500
TZNAME:CDT
DTSTART:20260308T080000
END:DAYLIGHT
BEGIN:STANDARD
TZOFFSETFROM:-0500
TZOFFSETTO:-0600
TZNAME:CST
DTSTART:20261101T070000
END:STANDARD
BEGIN:DAYLIGHT
TZOFFSETFROM:-0600
TZOFFSETTO:-0500
TZNAME:CDT
DTSTART:20270314T080000
END:DAYLIGHT
BEGIN:STANDARD
TZOFFSETFROM:-0500
TZOFFSETTO:-0600
TZNAME:CST
DTSTART:20271107T070000
END:STANDARD
END:VTIMEZONE
BEGIN:VEVENT
DTSTART;TZID=America/Chicago:20260321T113000
DTEND;TZID=America/Chicago:20260321T220000
DTSTAMP:20260424T210526
CREATED:20260202T203633Z
LAST-MODIFIED:20260202T211503Z
UID:10005080-1774092600-1774130400@aftm.us
SUMMARY:6th Annual Fort Worth African American Roots Music Festival
DESCRIPTION:The sound of old-time music is considered by many to be quintessentially American\, yet the extensive Black influence – from the creation of the banjo and fiddle traditions to the roots of social dances performed alongside the music – is not widely acknowledged. Many still consider Black folks playing the banjo and fiddling as anomalies\, rather than musicians continuing their own generations-old cultural traditions. The Fort Worth African American Roots Music Festival (FWAAMFest) aims to change that. Featuring a show-stopping lineup of award-winning artists from across North America\, the festival features performances\, educational sessions\, and jamming celebrating the central role of blackness in American roots music. It is unique among U.S.- major city festivals\, Black-led and centered on Black artists reclaiming their place in roots music forms through preservation and innovation.
URL:https://aftm.us/event/6th-annual-fort-worth-african-american-roots-music-festival/
LOCATION:Southside Preservation Hall\, 1519 Lipscomb Street\, Fort Worth\, TX\, 76104\, United States
ATTACH;FMTTYPE=image/webp:https://aftm.us/wp-content/uploads/2026/02/DTMRFWAAMFestHomepageSiteBanner1.webp
END:VEVENT
END:VCALENDAR