BEGIN:VCALENDAR
VERSION:2.0
PRODID:-//AFTM - ECPv6.15.20//NONSGML v1.0//EN
CALSCALE:GREGORIAN
METHOD:PUBLISH
X-WR-CALNAME:AFTM
X-ORIGINAL-URL:https://aftm.us
X-WR-CALDESC:Events for AFTM
REFRESH-INTERVAL;VALUE=DURATION:PT1H
X-Robots-Tag:noindex
X-PUBLISHED-TTL:PT1H
BEGIN:VTIMEZONE
TZID:America/Chicago
BEGIN:DAYLIGHT
TZOFFSETFROM:-0600
TZOFFSETTO:-0500
TZNAME:CDT
DTSTART:20250309T080000
END:DAYLIGHT
BEGIN:STANDARD
TZOFFSETFROM:-0500
TZOFFSETTO:-0600
TZNAME:CST
DTSTART:20251102T070000
END:STANDARD
BEGIN:DAYLIGHT
TZOFFSETFROM:-0600
TZOFFSETTO:-0500
TZNAME:CDT
DTSTART:20260308T080000
END:DAYLIGHT
BEGIN:STANDARD
TZOFFSETFROM:-0500
TZOFFSETTO:-0600
TZNAME:CST
DTSTART:20261101T070000
END:STANDARD
BEGIN:DAYLIGHT
TZOFFSETFROM:-0600
TZOFFSETTO:-0500
TZNAME:CDT
DTSTART:20270314T080000
END:DAYLIGHT
BEGIN:STANDARD
TZOFFSETFROM:-0500
TZOFFSETTO:-0600
TZNAME:CST
DTSTART:20271107T070000
END:STANDARD
END:VTIMEZONE
BEGIN:VEVENT
DTSTART;TZID=America/Chicago:20260503T130000
DTEND;TZID=America/Chicago:20260503T160000
DTSTAMP:20260423T030835
CREATED:20241009T025251Z
LAST-MODIFIED:20241009T025253Z
UID:10002758-1777813200-1777824000@aftm.us
SUMMARY:CTBA Bluegrass Jam at Batch
DESCRIPTION:Calling all pickers and music lovers! Please join the Central Texas Bluegrass Association (www.CentralTexasBluegrass.org) for their Sunday Bluegrass Jam\, weekly since 1978.
URL:https://aftm.us/event/ctba-bluegrass-jam-at-batch/2026-05-03/
LOCATION:Batch Craft Beer and Kolaches\, 3220 Manor Road\, Austin\, TX\, 78723\, United States
CATEGORIES:Bluegrass,Jam
GEO:30.2871833;-97.7031595
X-APPLE-STRUCTURED-LOCATION;VALUE=URI;X-ADDRESS=Batch Craft Beer and Kolaches 3220 Manor Road Austin TX 78723 United States;X-APPLE-RADIUS=500;X-TITLE=3220 Manor Road:geo:-97.7031595,30.2871833
END:VEVENT
BEGIN:VEVENT
DTSTART;TZID=America/Chicago:20260504T070000
DTEND;TZID=America/Chicago:20260504T220000
DTSTAMP:20260423T030835
CREATED:20250330T004312Z
LAST-MODIFIED:20250330T004421Z
UID:10003453-1777878000-1777932000@aftm.us
SUMMARY:Bluegrass Night at Radio West
DESCRIPTION:A rotating cast of Austin’s finest Bluegrass Pickers!  Rain or shine.  Kid and pet friendly.
URL:https://aftm.us/event/bluegrass-night-at-radio-west/2026-05-04/
LOCATION:Radio Coffee and Beer\, 4204 Menchaca Rd\, Austin\, 78704\, United States
ATTACH;FMTTYPE=image/jpeg:https://aftm.us/wp-content/uploads/2025/03/radio-bg.jpg
GEO:30.2316831;-97.7879686
X-APPLE-STRUCTURED-LOCATION;VALUE=URI;X-ADDRESS=Radio Coffee and Beer 4204 Menchaca Rd Austin 78704 United States;X-APPLE-RADIUS=500;X-TITLE=4204 Menchaca Rd:geo:-97.7879686,30.2316831
END:VEVENT
BEGIN:VEVENT
DTSTART;TZID=America/Chicago:20260505T180000
DTEND;TZID=America/Chicago:20260505T210000
DTSTAMP:20260423T030835
CREATED:20260330T235353Z
LAST-MODIFIED:20260330T235441Z
UID:10004832-1778004000-1778014800@aftm.us
SUMMARY:Austin Old Time Jam
DESCRIPTION:The weekly Austin Old Time Jam is hosted by Britt Irick and held every Tuesday. All skill levels are welcomed and encouraged. Free to listen or to learn! \n\n\n\nCheck here for the weekly location: Jam Calendar \n\n\n\nAnnouncements are often posted to the Austin Old Time Jam Facebook Group \n\n\n\nJam Resources: \n\n\n\n\nhttps://tinyurl.com/austinjamtunes\n\n\n\nhttps://tinyurl.com/austinjamchords
URL:https://aftm.us/event/austin-old-time-jam-2/2026-05-05/
LOCATION:Texas
CATEGORIES:Jam,Old Time Music
ATTACH;FMTTYPE=image/jpeg:https://aftm.us/wp-content/uploads/2026/01/jam.jpg
END:VEVENT
BEGIN:VEVENT
DTSTART;TZID=America/Chicago:20260506T190000
DTEND;TZID=America/Chicago:20260506T210000
DTSTAMP:20260423T030835
CREATED:20251023T200956Z
LAST-MODIFIED:20251024T055046Z
UID:10004794-1778094000-1778101200@aftm.us
SUMMARY:Webster's Ragtime Trio - 1st Weds at Batch
DESCRIPTION:Webster‘s ragtime trio is a throwback to a style of music that went largely unrecorded. Around the turn-of-the-century\, it is said that there was lots of string bands\, i.e. mandolin\, banjo\, guitar\, bow cello\, playing the popular hits of the day including classic ragtime compositions like the Maple Leaf Rag. Although that type of music was composed for marching bands and solo piano performance\, it is hard not to notice how joyful it sounds played on acoustic stringed instruments.  \n\n\n\n They don’t stop there\, they more than dip their toes into ragged Texas Fiddle tunes from the 78 RPM era\, even venturing across the pond to play the occasional archaic Polish mazurka\, and/or striking up borderland polka Harkening back to the glory days of Tejas.  \n\n\n\nAlexander Jones\, Will Webster\, and Westen Borghesi make up this fine trio. 
URL:https://aftm.us/event/websters-ragtime-trio/2026-05-06/
LOCATION:Texas
ATTACH;FMTTYPE=image/jpeg:https://aftm.us/wp-content/uploads/2025/10/WRT.jpeg
END:VEVENT
BEGIN:VEVENT
DTSTART;TZID=America/Chicago:20260507T190000
DTEND;TZID=America/Chicago:20260507T220000
DTSTAMP:20260423T030835
CREATED:20241009T200256Z
LAST-MODIFIED:20250506T051645Z
UID:10004210-1778180400-1778191200@aftm.us
SUMMARY:Traditional Irish Music Session at B.D. Riley's
DESCRIPTION:Sessions Thursdays at 7pm on the Paseo beside the pub. Session players get a drinks tab & food disco.
URL:https://aftm.us/event/traditional-irish-music-session-at-b-d-rileys/2026-05-07/
LOCATION:B.D. Riley’s\, 1905 Aldrich St #130\, Austin\, Texas\, 78723\, United States
ATTACH;FMTTYPE=image/jpeg:https://aftm.us/wp-content/uploads/2024/10/bdrileyirishjam.jpg
GEO:30.2982043;-97.7050625
X-APPLE-STRUCTURED-LOCATION;VALUE=URI;X-ADDRESS=B.D. Riley’s 1905 Aldrich St #130 Austin Texas 78723 United States;X-APPLE-RADIUS=500;X-TITLE=1905 Aldrich St #130:geo:-97.7050625,30.2982043
END:VEVENT
BEGIN:VEVENT
DTSTART;TZID=America/Chicago:20260509T193000
DTEND;TZID=America/Chicago:20260509T235900
DTSTAMP:20260423T030835
CREATED:20250506T051850Z
LAST-MODIFIED:20260307T230643Z
UID:10004533-1778355000-1778371140@aftm.us
SUMMARY:Africa Night at the Sahara Lounge
DESCRIPTION:Experience the magic of Africa Night\, where the rhythm of the music is only surpassed by the vibrant energy of the crowd. Immerse yourself in a night of dancing and grooves that transcends all borders. Join the unique fusion of cultures on the dance floor – one moment\, you’re grooving to the beat\, and the next\, engaged in captivating conversations. Every beat tells a story\, and each connection is a celebration.
URL:https://aftm.us/event/africa-night-at-the-sahara-lounge-2/2026-05-09/
LOCATION:Sahara Lounge\, 1413 Webberville\, Austin\, Texas\, 78721\, United States
ATTACH;FMTTYPE=image/webp:https://aftm.us/wp-content/uploads/2024/10/africanight.webp
GEO:30.2795132;-97.6815825
X-APPLE-STRUCTURED-LOCATION;VALUE=URI;X-ADDRESS=Sahara Lounge 1413 Webberville Austin Texas 78721 United States;X-APPLE-RADIUS=500;X-TITLE=1413 Webberville:geo:-97.6815825,30.2795132
END:VEVENT
END:VCALENDAR