BEGIN:VCALENDAR
VERSION:2.0
PRODID:-//AFTM - ECPv6.15.20//NONSGML v1.0//EN
CALSCALE:GREGORIAN
METHOD:PUBLISH
X-ORIGINAL-URL:https://aftm.us
X-WR-CALDESC:Events for AFTM
REFRESH-INTERVAL;VALUE=DURATION:PT1H
X-Robots-Tag:noindex
X-PUBLISHED-TTL:PT1H
BEGIN:VTIMEZONE
TZID:America/Chicago
BEGIN:DAYLIGHT
TZOFFSETFROM:-0600
TZOFFSETTO:-0500
TZNAME:CDT
DTSTART:20230312T080000
END:DAYLIGHT
BEGIN:STANDARD
TZOFFSETFROM:-0500
TZOFFSETTO:-0600
TZNAME:CST
DTSTART:20231105T070000
END:STANDARD
BEGIN:DAYLIGHT
TZOFFSETFROM:-0600
TZOFFSETTO:-0500
TZNAME:CDT
DTSTART:20240310T080000
END:DAYLIGHT
BEGIN:STANDARD
TZOFFSETFROM:-0500
TZOFFSETTO:-0600
TZNAME:CST
DTSTART:20241103T070000
END:STANDARD
BEGIN:DAYLIGHT
TZOFFSETFROM:-0600
TZOFFSETTO:-0500
TZNAME:CDT
DTSTART:20250309T080000
END:DAYLIGHT
BEGIN:STANDARD
TZOFFSETFROM:-0500
TZOFFSETTO:-0600
TZNAME:CST
DTSTART:20251102T070000
END:STANDARD
END:VTIMEZONE
BEGIN:VEVENT
DTSTART;TZID=America/Chicago:20241006T180000
DTEND;TZID=America/Chicago:20241006T200000
DTSTAMP:20260423T115308
CREATED:20241001T054123Z
LAST-MODIFIED:20241001T062932Z
UID:10000793-1728237600-1728244800@aftm.us
SUMMARY:ROOT FIVE
DESCRIPTION:Root Five is a rotating collection of the finest pickers in Austin’s bluegrass scene fronted by banjoist Julian Root.
URL:https://aftm.us/event/root-five/
LOCATION:Central Machine Works Brewery\, 4824 East Cesar Chavez Street\, Austin\, Texas\, 78702\, United States
CATEGORIES:Bluegrass,Concert
ATTACH;FMTTYPE=image/jpeg:https://aftm.us/wp-content/uploads/2024/10/root-five.jpeg
GEO:30.2520283;-97.7015722
X-APPLE-STRUCTURED-LOCATION;VALUE=URI;X-ADDRESS=Central Machine Works Brewery 4824 East Cesar Chavez Street Austin Texas 78702 United States;X-APPLE-RADIUS=500;X-TITLE=4824 East Cesar Chavez Street:geo:-97.7015722,30.2520283
END:VEVENT
END:VCALENDAR