BEGIN:VCALENDAR
VERSION:2.0
PRODID:-//AFTM - ECPv6.15.20//NONSGML v1.0//EN
CALSCALE:GREGORIAN
METHOD:PUBLISH
X-WR-CALNAME:AFTM
X-ORIGINAL-URL:https://aftm.us
X-WR-CALDESC:Events for AFTM
REFRESH-INTERVAL;VALUE=DURATION:PT1H
X-Robots-Tag:noindex
X-PUBLISHED-TTL:PT1H
BEGIN:VTIMEZONE
TZID:America/Chicago
BEGIN:DAYLIGHT
TZOFFSETFROM:-0600
TZOFFSETTO:-0500
TZNAME:CDT
DTSTART:20240310T080000
END:DAYLIGHT
BEGIN:STANDARD
TZOFFSETFROM:-0500
TZOFFSETTO:-0600
TZNAME:CST
DTSTART:20241103T070000
END:STANDARD
BEGIN:DAYLIGHT
TZOFFSETFROM:-0600
TZOFFSETTO:-0500
TZNAME:CDT
DTSTART:20250309T080000
END:DAYLIGHT
BEGIN:STANDARD
TZOFFSETFROM:-0500
TZOFFSETTO:-0600
TZNAME:CST
DTSTART:20251102T070000
END:STANDARD
BEGIN:DAYLIGHT
TZOFFSETFROM:-0600
TZOFFSETTO:-0500
TZNAME:CDT
DTSTART:20260308T080000
END:DAYLIGHT
BEGIN:STANDARD
TZOFFSETFROM:-0500
TZOFFSETTO:-0600
TZNAME:CST
DTSTART:20261101T070000
END:STANDARD
END:VTIMEZONE
BEGIN:VEVENT
DTSTART;TZID=America/Chicago:20250404T190000
DTEND;TZID=America/Chicago:20250404T220000
DTSTAMP:20260414T060654
CREATED:20250331T133410Z
LAST-MODIFIED:20250331T133448Z
UID:10003659-1743793200-1743804000@aftm.us
SUMMARY:An Austin evening with Alasdair Fraser and Natalie Haas
DESCRIPTION:CasaDBs is honored to again host the Austin tour stop of Alasdair Fraser and Natalie Haas. This will be a magical evening of music in Austin\, We will again gather at the Lamar Senior Activity Center at 29th and North Lamar Blvd. \n\n\n\nRSVP here: https://www.eventbrite.com/e/an-austin-evening-with-alasdair-fraser-and-natalie-haas-tickets-1242907924059 \n\n\n\nSince 2003 Alasdair has featured in a duo with cellist Natalie Haas\, restoring the wee fiddle and big fiddle partnership that flourished in eighteenth century Scotland to contemporary prominence at the cutting edge of tradition-rooted creativity. Their debut album\, Fire and Grace\, was voted Album of the Year at the Scots Trad Music Awards 2004\, adding to Alasdair’s North American Independent Record Distributors award for his Dawn Dance album in 1996\, and they continue to thrill audiences internationally with their virtuosic playing\, their near-telepathic understanding and the joyful spontaneity and sheer physical presence of their music. \n\n\n\nDetails: \n\n\n\n\nWe’ll Have: Concert seating in a classic old Austin listening space. Seating will be limited so please use this form to RSVP\n\n\n\nWhat: Alasdair Fraser and Natalie Haas in concert\n\n\n\nWhen: Friday April 4\, 2025 – Doors: 7 PM – Music: 8 PM – Rain or Shine\n\n\n\nWhere: LSAC 2874 Shoal Crest Ave\, Austin\, Texas 78705.\n\n\n\nBring: Your fav drinks\, food or snacks.
URL:https://aftm.us/event/2025-04-04-alasdair-fraser-and-natalie-haas/
LOCATION:Lamar Senior Activity Center\, 2874 Shoal Crest Ave\, Austin\, Texas\, 78705\, United States
GEO:30.2967288;-97.7487008
X-APPLE-STRUCTURED-LOCATION;VALUE=URI;X-ADDRESS=Lamar Senior Activity Center 2874 Shoal Crest Ave Austin Texas 78705 United States;X-APPLE-RADIUS=500;X-TITLE=2874 Shoal Crest Ave:geo:-97.7487008,30.2967288
END:VEVENT
END:VCALENDAR